BEGIN:VCALENDAR
VERSION:2.0
PRODID:-//ZContent.net//ZapCalLib 1.0//EN
CALSCALE:GREGORIAN
METHOD:PUBLISH
BEGIN:VEVENT
DTSTART:20230426T000000
DTEND:20230426T000000
SUMMARY:Consensus 2023
UID:675object-computing-inc
DTSTAMP:20260421T140655
DESCRIPTION:\n\n\n\n\nJoin us at #Consensus2023 by@CoinDesk&nbsp\;\nApril 2
 6-28 &bull\; Austin\, Texas\nTHE BIGGEST FESTIVAL IN CRYPTO&nbsp\;&mdash\;
 &nbsp\;Where Vision Meets Passion\n\nAt CoinDesk&rsquo\;s flagship event\,
  developers\, investors\, founders\, brands\, policymakers and more will c
 onverge on Austin\, Texas to take stock of how the crypto industry lost it
 s way and how the technology can finally deliver on its potential.\nBeyond
  all the onstage conversations you&rsquo\;re used to watching at Consensus
 \, this year we&rsquo\;re adding something new and timely: Private worksho
 ps to find solutions to crypto&rsquo\;s thorniest challenges. After the ev
 ent\, we will publish the findings of these deliberations in CoinDesk&rsqu
 o\;s first Consensus of Consensus Report.\nConsensus 2023 is where vision 
 meets passion from those looking to learn and build together. Will you joi
 n us in this vital undertaking?\n\nWhat Is Consensus?\n\nAs the world&rsqu
 o\;s largest\, longest-running and most influential gathering of the many\
 , differing elements that make up the crypto community\, Consensus has alw
 ays sought to live up to its name. We bring this disparate\, freewheeling\
 , innovative community together to confront its differences\, grapple with
  its challenges\, and find agreement on how to best seize the opportunitie
 s this technology presents.\nThere could not be a more important time than
  now to do so.\nIn the wake of the most tumultuous year in crypto history\
 ,&nbsp\;it is a time to reflect\, a time to rebuild\, a time to remember w
 hy we&rsquo\;re here.\nUnrecognized in the alarming headlines\, real innov
 ation continues and\, if anything\, is accelerating around this technology
 \, regardless of a wrenching downturn in token prices.\n\n\n\n\n\n\n\n\n\n
 \n\n\nLEARN MORE AND REGISTER\n&nbsp\;\n\n\n\n\n\n
X-ALT-DESCRIPTION:<div>\n<div data-widget-type="cell" data-x="0" data-w="12
 ">\n<div data-widget-type="cell" data-x="0" data-w="12">\n<div data-widget
 -type="cell" data-x="0" data-w="12">\n<div data-widget-type="rich_text" da
 ta-x="0" data-w="12">\n<h2>Join us at <a dir="ltr" href="https://twitter.c
 om/search?q=%23Consensus2023&amp\;src=hashtag_click">#Consensus2023</a> by
 @<a dir="ltr" href="https://twitter.com/CoinDesk">CoinDesk</a>&nbsp\;</h2>
 \n<h3>April 26-28 &bull\; Austin\, Texas</h3>\n<h4>THE BIGGEST FESTIVAL IN
  CRYPTO&nbsp\;&mdash\;&nbsp\;Where Vision Meets Passion</h4>\n<div>\n<p>At
  CoinDesk&rsquo\;s flagship event\, developers\, investors\, founders\, br
 ands\, policymakers and more will converge on Austin\, Texas to take stock
  of how the crypto industry lost its way and how the technology can finall
 y deliver on its potential.</p>\n<p>Beyond all the onstage conversations y
 ou&rsquo\;re used to watching at Consensus\, this year we&rsquo\;re adding
  something new and timely: Private workshops to find solutions to crypto&r
 squo\;s thorniest challenges. After the event\, we will publish the findin
 gs of these deliberations in CoinDesk&rsquo\;s first Consensus of Consensu
 s Report.</p>\n<p>Consensus 2023 is where vision meets passion from those 
 looking to learn and build together. Will you join us in this vital undert
 aking?</p>\n</div>\n<h4>What Is Consensus?</h4>\n<div>\n<p>As the world&rs
 quo\;s largest\, longest-running and most influential gathering of the man
 y\, differing elements that make up the crypto community\, Consensus has a
 lways sought to live up to its name. We bring this disparate\, freewheelin
 g\, innovative community together to confront its differences\, grapple wi
 th its challenges\, and find agreement on how to best seize the opportunit
 ies this technology presents.</p>\n<p>There could not be a more important 
 time than now to do so.</p>\n<p>In the wake of the most tumultuous year in
  crypto history\,&nbsp\;it is a time to reflect\, a time to rebuild\, a ti
 me to remember why we&rsquo\;re here.</p>\n<p>Unrecognized in the alarming
  headlines\, real innovation continues and\, if anything\, is accelerating
  around this technology\, regardless of a wrenching downturn in token pric
 es.</p>\n</div>\n</div>\n</div>\n</div>\n</div>\n</div>\n<div>\n<div data-
 widget-type="cell" data-x="0" data-w="12">\n<div data-widget-type="custom_
 widget" data-x="8" data-w="4">\n<div id="hs_cos_wrapper_module_15525380381
 574033" data-hs-cos-general-type="widget" data-hs-cos-type="module">\n<div
 >\n<div data-widget-type="rich_text" data-x="0" data-w="12">\n<p><a class=
 "button-link button-link-blue" href="https://consensus.coindesk.com/regist
 er/" target="_self">LEARN MORE AND REGISTER</a></p>\n<p>&nbsp\;</p>\n</div
 >\n</div>\n</div>\n</div>\n</div>\n</div>
CATEGORIES:Conferences\,Tech Talks\,Blockchain\,Cloud\, Machine Learning\, 
 AI &amp\; IIoT\,Software Engineering\,Data Engineering
END:VEVENT
END:VCALENDAR
