BEGIN:VCALENDAR
VERSION:2.0
PRODID:-//ZContent.net//ZapCalLib 1.0//EN
CALSCALE:GREGORIAN
METHOD:PUBLISH
BEGIN:VEVENT
DTSTART:20230424T000000
DTEND:20230424T000000
SUMMARY:STL Tech Week
UID:677object-computing-inc
DTSTAMP:20260421T135338
DESCRIPTION:SAVE THE DATE\nMark your Calendar - STL TechWeek is taking over
  St. Louis with 5 days of emerging technologies\, immersive innovation &am
 p\; mind blowing events!\nThe inaugural STL TechWeek will be hosted on Apr
 il 24-28\, 2023\, in various locations around Greater St. Louis. Presented
  by TechSTL and planned out with the help of Council Members\, TechWeek wi
 ll showcase all the disruptive innovation\, frontline technologies\, and c
 orporate ingenuity that the Gateway City has to offer. We will have pitch 
 competitions\, tech expos\, demo days\, mini-hackathons\, job fairs\, keyn
 ote speakers\, and more.\n&nbsp\;\nMore information coming soon: https://t
 echstl.com/techweek/\nA full-lineup of events will be released in early 20
 23. Hosts\, Sponsors\, and Partners are being confirmed now.&nbsp\;Contact
  Emily@TechSTL.com to learn more.\n&nbsp\;
X-ALT-DESCRIPTION:<h1 class="lead">SAVE THE DATE</h1>\n<p>Mark your Calenda
 r - STL TechWeek is taking over St. Louis with 5 days of emerging technolo
 gies\, immersive innovation &amp\; mind blowing events!</p>\n<div id="even
 t_description">The inaugural STL TechWeek will be hosted on <strong>April 
 24-28\, 2023</strong>\, in various locations around Greater St. Louis. Pre
 sented by TechSTL and planned out with the help of Council Members\, TechW
 eek will showcase all the disruptive innovation\, frontline technologies\,
  and corporate ingenuity that the Gateway City has to offer. We will have 
 pitch competitions\, tech expos\, demo days\, mini-hackathons\, job fairs\
 , keynote speakers\, and more.</div>\n<div>&nbsp\;</div>\n<div>More inform
 ation coming soon: <a href="https://techstl.com/techweek/">https://techstl
 .com/techweek/</a></div>\n<div><br /><em>A full-lineup of events will be r
 eleased in early 2023. Hosts\, Sponsors\, and Partners are being confirmed
  now.</em><em>&nbsp\;Contact Emily@TechSTL.com to learn more.</em></div>\n
 <div>&nbsp\;</div>
CATEGORIES:Conferences\,Meetups\,Tech Talks\,Blockchain\,Cloud\, Machine Le
 arning\, AI &amp\; IIoT\,Software Engineering\,Data Engineering
END:VEVENT
END:VCALENDAR
