BEGIN:VCALENDAR
VERSION:2.0
PRODID:-//ZContent.net//ZapCalLib 1.0//EN
CALSCALE:GREGORIAN
METHOD:PUBLISH
BEGIN:VEVENT
DTSTART:20230521T000000
DTEND:20230521T000000
SUMMARY:GEOINT
UID:678object-computing-inc
DTSTAMP:20260421T140828
DESCRIPTION:\nGEOINT 2023 Symposium\nThe Nation&rsquo\;s Largest Gathering 
 of GEOINT Professionals\n\n\nMAY 21-24\, 2023 -&nbsp\;America&rsquo\;s Cen
 ter Convention Complex\,&nbsp\;St. Louis\, Missouri&nbsp\;\nMeet us this M
 ay at the largest annual gathering of geospatial intelligence professional
 s in the nation!\nWith an average total attendance of more than 4\,000\, t
 he event is a unique and unparalleled gathering of the GEOINT community\, 
 with attendees spanning government\, military\, industry\, and academia.\n
 This year&rsquo\;s Symposium theme\,&nbsp\;GEOINT: From Maps to Metaverse\
 , reflects the evolution of the GEOINT discipline over the two decades sin
 ce the first such gathering of our community in 2003\, as well as the broa
 d scope of sub-disciplines that GEOINT encompasses.\nRegister\n
X-ALT-DESCRIPTION:<div data-node="ip7zmuxbfs3c">\n<h2>GEOINT 2023 Symposium
 </h2>\n<h3>The Nation&rsquo\;s Largest Gathering of GEOINT Professionals</
 h3>\n</div>\n<div data-node="un09zmhx6v1j">\n<h5>MAY 21-24\, 2023 -&nbsp\;
 America&rsquo\;s Center Convention Complex\,&nbsp\;St. Louis\, Missouri&nb
 sp\;</h5>\n<p>Meet us this May at the largest annual gathering of geospati
 al intelligence professionals in the nation!</p>\n<p>With an average total
  attendance of more than 4\,000\, the event is a unique and unparalleled g
 athering of the GEOINT community\, with attendees spanning government\, mi
 litary\, industry\, and academia.</p>\n<p>This year&rsquo\;s Symposium the
 me\,&nbsp\;<em>GEOINT: From Maps to Metaverse</em>\, reflects the evolutio
 n of the GEOINT discipline over the two decades since the first such gathe
 ring of our community in 2003\, as well as the broad scope of sub-discipli
 nes that GEOINT encompasses.</p>\n<p><a class="button-link button-link-blu
 e" href="https://attendee-usgif2023.streampoint.com/">Register<br /></a></
 p>\n</div>
CATEGORIES:Conferences\,Meetups\,Tech Talks\,Cloud\, Machine Learning\, AI 
 &amp\; IIoT\,Software Engineering\,Data Engineering
END:VEVENT
END:VCALENDAR
