BEGIN:VCALENDAR
VERSION:2.0
PRODID:-//ZContent.net//ZapCalLib 1.0//EN
CALSCALE:GREGORIAN
METHOD:PUBLISH
BEGIN:VEVENT
DTSTART:20230510T000000
DTEND:20230510T000000
SUMMARY:North51
UID:686object-computing-inc
DTSTAMP:20260421T184954
DESCRIPTION:2023 NORTH51 Theme: ALCHEMY\nThe fifth annual NORTH51 Conferenc
 e takes place at the Rimrock Resort in Banff on May 10-12\, 2023\, and fea
 tures keynotes\, presentations\, panels\, and invaluable networking opport
 unities.The speakers and presenters at NORTH51 bring a unique and wide-ran
 ging perspective as their share emerging ideas\, technology breakthroughs\
 , and their predictions about where the future will take us.\n\nAttracting
  over 100 leaders from across Canada\, the USA\, and internationally NORTH
 51 attendees sit at the intersection of high technology knowledge and high
  strategic knowledge. This mix of attendees leads to engaging conversation
 s and networking opportunities.\n\nDon't miss Object Computing CEO Bob Elf
 anbaum's talk: "Spatial Finance: Intersection of Sustainability and GIS."&
 nbsp\;In this talk\, Bob will discuss how companies have a unique opportun
 ity to shape spatial finance with the use of new technologies. Focusing on
  GIS\, remote sensing\, AI and blockchain/DLT\, this talk will highlight n
 ew methods that can support or challenge organizations&rsquo\; sustainabil
 ity goals.\n\nThe 2023 theme&nbsp\;Alchemy&nbsp\;speaks to the ongoing gro
 wth of geospatial data and the myriad of systems that collect\, create\, a
 nd generate spatial data every day. With the exponential growth of data\, 
 geospatial is uniquely positioned to create value from this firehose to he
 lp answer the critical business and social questions that arise. Speakers 
 will address topics on spatial finance\, environmental management\, augmen
 ted reality\, and the impacts and challenges of geospatial in a world affe
 cted by climate change.\nRegister Now\n
X-ALT-DESCRIPTION:<h4>2023 NORTH51 Theme: ALCHEMY</h4>\n<p class="lead">The
  fifth annual NORTH51 Conference takes place at the <strong>Rimrock Resort
  in Banff on May 10-12\, 2023</strong>\, and features keynotes\, presentat
 ions\, panels\, and invaluable networking opportunities.The speakers and p
 resenters at NORTH51 bring a unique and wide-ranging perspective as their 
 share emerging ideas\, technology breakthroughs\, and their predictions ab
 out where the future will take us.</p>\n<div>\n<p class="lead">Attracting 
 over 100 leaders from across Canada\, the USA\, and internationally NORTH5
 1 attendees sit at the intersection of high technology knowledge and high 
 strategic knowledge. This mix of attendees leads to engaging conversations
  and networking opportunities.</p>\n<blockquote>\n<p class="lead"><strong>
 Don't miss Object Computing CEO Bob Elfanbaum's talk: "Spatial Finance: In
 tersection of Sustainability and GIS."&nbsp\;In this talk\, Bob will discu
 ss how companies have a unique opportunity to shape spatial finance with t
 he use of new technologies. Focusing on GIS\, remote sensing\, AI and bloc
 kchain/DLT\, this talk will highlight new methods that can support or chal
 lenge organizations&rsquo\; sustainability goals.</strong></p>\n</blockquo
 te>\n<p class="lead">The 2023 theme&nbsp\;Alchemy&nbsp\;speaks to the ongo
 ing growth of geospatial data and the myriad of systems that collect\, cre
 ate\, and generate spatial data every day. With the exponential growth of 
 data\, geospatial is uniquely positioned to create value from this firehos
 e to help answer the critical business and social questions that arise. Sp
 eakers will address topics on spatial finance\, environmental management\,
  augmented reality\, and the impacts and challenges of geospatial in a wor
 ld affected by climate change.</p>\n<p><a class="button-link button-link-b
 lue" href="https://n51.ca/register/">Register Now</a></p>\n</div>
CATEGORIES:Conferences\,Tech Talks\,Blockchain\,Cloud\, Machine Learning\, 
 AI &amp\; IIoT\,Software Engineering\,Data Engineering\,Fintech\,Sustainab
 ility
END:VEVENT
END:VCALENDAR
