BEGIN:VCALENDAR
VERSION:2.0
PRODID:-//ZContent.net//ZapCalLib 1.0//EN
CALSCALE:GREGORIAN
METHOD:PUBLISH
BEGIN:VEVENT
DTSTART:20230627T000000
DTEND:20230628T000000
SUMMARY:InfoAg Conference
UID:688object-computing-inc
DTSTAMP:20260421T131123
DESCRIPTION:Hear Object Computing/Tolam Earth and others speak on how to re
 ach Net Zero by 2040 at InfoAg Conference on Wed.\, 6/28 at 1:30pm CST.&nb
 sp\;\n&nbsp\;\nInfoAg experience is expanding to cover a broader scope of 
 information that crop advisors and retail agribusinesses can use to advanc
 e sustainability and their organization&rsquo\;s bottom line. The event fe
 atures a tradeshow along with education sessions that address the challeng
 es of the retail agronomist through precision ag\, environmental stewardsh
 ip\, sustainability\, and product innovation. The conference will equip at
 tendees with actionable takeaways they can bring back to their businesses 
 and customers.\nInfoAg 2023&rsquo\;s expanded education offerings will foc
 us on the following topics:\n\nPrecision Agriculture: Presentations in thi
 s track will focus on the use of technologies to improve efficiencies\, in
 cluding monitoring soil and crop health\, crop growth\, and carbon estimat
 es. Technologies include: remote sensing\, drones\, autonomy and robotics\
 , blockchain\, IoT\, and more.\nProducts Innovation: Presentations in this
  category are targeted towards showcasing the latest innovative products\,
  including Enhanced Efficiency Fertilizers (EEFs)\, Biostimulants\, geneti
 cs\, beneficial insects\, and other ag inputs\, as well as how to evaluate
  this new spectrum of products and improve adoption.\nSustainability/Envir
 onmental Stewardship: This education track will focus on the latest conser
 vation practices\, impact of 4Rs\, Climate Smart Agriculture\, carbon sequ
 estration practices and carbon markets\, and the use of technology to demo
 nstrate environmental practices.\n
X-ALT-DESCRIPTION:<p><strong>Hear Object Computing/Tolam Earth and others s
 peak on how to reach Net Zero by 2040 at InfoAg Conference on Wed.\, 6/28 
 at 1:30pm CST.&nbsp\;</strong></p>\n<p>&nbsp\;</p>\n<p>InfoAg experience i
 s expanding to cover a broader scope of information that crop advisors and
  retail agribusinesses can use to advance sustainability and their organiz
 ation&rsquo\;s bottom line. The event features a tradeshow along with educ
 ation sessions that address the challenges of the retail agronomist throug
 h precision ag\, environmental stewardship\, sustainability\, and product 
 innovation. The conference will equip attendees with actionable takeaways 
 they can bring back to their businesses and customers.</p>\n<p>InfoAg 2023
 &rsquo\;s expanded education offerings will focus on the following topics:
 </p>\n<ul>\n<li><strong>Precision Agriculture</strong>: Presentations in t
 his track will focus on the use of technologies to improve efficiencies\, 
 including monitoring soil and crop health\, crop growth\, and carbon estim
 ates. Technologies include: remote sensing\, drones\, autonomy and robotic
 s\, blockchain\, IoT\, and more.</li>\n<li><strong>Products Innovation</st
 rong>: Presentations in this category are targeted towards showcasing the 
 latest innovative products\, including Enhanced Efficiency Fertilizers (EE
 Fs)\, Biostimulants\, genetics\, beneficial insects\, and other ag inputs\
 , as well as how to evaluate this new spectrum of products and improve ado
 ption.</li>\n<li><strong>Sustainability/Environmental Stewardship</strong>
 : This education track will focus on the latest conservation practices\, i
 mpact of 4Rs\, Climate Smart Agriculture\, carbon sequestration practices 
 and carbon markets\, and the use of technology to demonstrate environmenta
 l practices.</li>\n</ul>
CATEGORIES:Conferences\,Training\,Cloud\, Machine Learning\, AI &amp\; IIoT
 \,Software Engineering\,Data Engineering\,Sustainability\,Agriculture
LOCATION:Union Station, St. Louis, MO
END:VEVENT
END:VCALENDAR
