BEGIN:VCALENDAR
VERSION:2.0
PRODID:-//ZContent.net//ZapCalLib 1.0//EN
CALSCALE:GREGORIAN
METHOD:PUBLISH
BEGIN:VEVENT
DTSTART:20240915T000000
DTEND:20240915T000000
SUMMARY:AREMA 2024 Annual Conference &amp\; Expo
UID:721object-computing-inc
DTSTAMP:20260422T011519
DESCRIPTION:Connect with our team September 15-18 at the&nbsp\;American Rai
 lway Engineering and&nbsp\;Maintenance-of-Way Association (AREMA) 2024 Con
 ference &amp\; Expo. The event provides an excellent opportunity to increa
 se railroad knowledge\, technical expertise\, network and exchange ideas.\
 nRegister for AREMA.
X-ALT-DESCRIPTION:<p>Connect with our team September 15-18 at the&nbsp\;Ame
 rican Railway Engineering and&nbsp\;Maintenance-of-Way Association (AREMA)
  2024 Conference &amp\; Expo. The event provides an excellent opportunity 
 to increase railroad knowledge\, technical expertise\, network and exchang
 e ideas.</p>\n<p><a href="https://conference.arema.org/" target="_blank">R
 egister for AREMA</a>.</p>
CATEGORIES:Conferences\,Transportation
END:VEVENT
END:VCALENDAR
