BEGIN:VCALENDAR
VERSION:2.0
PRODID:-//ZContent.net//ZapCalLib 1.0//EN
CALSCALE:GREGORIAN
METHOD:PUBLISH
BEGIN:VEVENT
DTSTART:20240912T000000
DTEND:20240912T000000
SUMMARY:Geo-Resolution 2024
UID:722object-computing-inc
DTSTAMP:20260419T164859
DESCRIPTION:\n\n\nGeo-Resolution 2024 highlights the important role of geos
 patial models in addressing global issues and advancing geospatial science
 . Building off of the 2023 theme\, with its focus on digital transformatio
 ns and GeoAI\, this year&rsquo\;s conference dives deeper into key areas f
 or geospatial research and innovation\, such as digital twins\, gaming and
  simulation\, big data\, artificial intelligence\, and more.\nParticipants
  will also consider how new technologies and applications for geospatial m
 odeling might impact the future of the geospatial workforce and the skills
  needed to make an impact in the geospatial field.\nGeo-Resolution is co-s
 ponsored by the National Geospatial-Intelligence Agency and Saint Louis Un
 iversity\, and supported by the Taylor Geospatial Institute.\nRegister for
  Geo-Resolution.\n\n\n
X-ALT-DESCRIPTION:<div>\n<div>\n<div>\n<p>Geo-Resolution 2024 highlights th
 e important role of geospatial models in addressing global issues and adva
 ncing geospatial science. Building off of the 2023 theme\, with its focus 
 on digital transformations and GeoAI\, this year&rsquo\;s conference dives
  deeper into key areas for geospatial research and innovation\, such as di
 gital twins\, gaming and simulation\, big data\, artificial intelligence\,
  and more.</p>\n<p>Participants will also consider how new technologies an
 d applications for geospatial modeling might impact the future of the geos
 patial workforce and the skills needed to make an impact in the geospatial
  field.</p>\n<p>Geo-Resolution is co-sponsored by the National Geospatial-
 Intelligence Agency and Saint Louis University\, and supported by the Tayl
 or Geospatial Institute.</p>\n<p><a href="https://taylorgeospatial.org/eve
 nt/geo-resolution-2024-2/" target="_blank">Register for Geo-Resolution</a>
 .</p>\n</div>\n</div>\n</div>
CATEGORIES:Conferences\,Cloud\, Machine Learning\, AI &amp\; IIoT
END:VEVENT
END:VCALENDAR
